View In:
ArcGIS JavaScript
ArcGIS Online Map Viewer
ArcGIS Earth
ArcMap
View Footprint In:
ArcGIS Online Map Viewer
Service Description: This mosaic contains selected scanned historic aerial photographs for the shoreline of Connecticut. The scans were created by the CT State library and downloaded through the University of Connecticut Library MAGIC server. Prior to rectifying the images were cropped to minimize distortion from upland topography and the lack of tie features in the open water. Statewide 2012 ortho imagery was used as the base for matching the image coordinates. Because of the focus on coastal features only tie points at or near sea level were selected for rectiying the images (off shore rocks, prominent coastal landmarks, and other fixed features found in both the 2012 and rectified photographs). The georeferencing tools used are from ArcGIS 10., 2, and 3 depending on the version availalble at the time. The Projective transformation was used to minimize warping in the images yet still account for tilt of the aircraft. These are not true ortho photographs, no elevation values were taken into account and displacement in upland features were not aligned.
Name: Aerials/CTCoast1934
Description: This mosaic contains selected scanned historic aerial photographs for the shoreline of Connecticut. The scans were created by the CT State library and downloaded through the University of Connecticut Library MAGIC server. Prior to rectifying the images were cropped to minimize distortion from upland topography and the lack of tie features in the open water. Statewide 2012 ortho imagery was used as the base for matching the image coordinates. Because of the focus on coastal features only tie points at or near sea level were selected for rectiying the images (off shore rocks, prominent coastal landmarks, and other fixed features found in both the 2012 and rectified photographs). The georeferencing tools used are from ArcGIS 10., 2, and 3 depending on the version availalble at the time. The Projective transformation was used to minimize warping in the images yet still account for tilt of the aircraft. These are not true ortho photographs, no elevation values were taken into account and displacement in upland features were not aligned.
Single Fused Map Cache: false
Extent:
XMin: 742456.4174510314
YMin: 552681.9319661143
XMax: 1254793.1422350146
YMax: 691773.7046725788
Spatial Reference: 102656
(2234)
LatestVCSWkid(0)
Initial Extent:
XMin: 742456.4174510314
YMin: 552681.9319661143
XMax: 1254793.1422350146
YMax: 691773.7046725788
Spatial Reference: 102656
(2234)
LatestVCSWkid(0)
Full Extent:
XMin: 742456.4174510314
YMin: 552681.9319661143
XMax: 1254793.1422350146
YMax: 691773.7046725788
Spatial Reference: 102656
(2234)
LatestVCSWkid(0)
Pixel Size X: 0.9144036808829319
Pixel Size Y: 0.9144036808829318
Band Count: 3
Pixel Type: U8
RasterFunction Infos: {"rasterFunctionInfos": [{
"name": "None",
"description": "",
"help": ""
}]}
Mensuration Capabilities: Basic
Has Histograms: true
Has Colormap: false
Has Multi Dimensions : false
Rendering Rule:
Min Scale: 0
Max Scale: 0
Copyright Text: CT State Library for the scanned aerial photographs. The University of Connecticut Library MAGIC program for the online access to scanned historic images. The Univerisity of Connecitcut Cooperative Extension System for rectifying the images. Connecticut Sea Grant for the completion and publishing of the dataset.
Service Data Type: esriImageServiceDataTypeRGB
Min Values: 0, 0, 0
Max Values: 239, 239, 239
Mean Values: 97.74883923389437, 97.74883923389437, 97.74883923389437
Standard Deviation Values: 46.03130960274128, 46.03130960274128, 46.03130960274128
Object ID Field: OBJECTID
Fields:
-
OBJECTID
(
type: esriFieldTypeOID, alias: OBJECTID
)
-
Shape
(
type: esriFieldTypeGeometry, alias: Shape
)
-
Name
(
type: esriFieldTypeString, alias: Name, length: 50
)
-
MinPS
(
type: esriFieldTypeDouble, alias: MinPS
)
-
MaxPS
(
type: esriFieldTypeDouble, alias: MaxPS
)
-
LowPS
(
type: esriFieldTypeDouble, alias: LowPS
)
-
HighPS
(
type: esriFieldTypeDouble, alias: HighPS
)
-
Category
(
type: esriFieldTypeInteger, alias: Category
, Coded Values:
[0: Unknown]
, [1: Primary]
, [2: Overview]
, ...5 more...
)
-
Tag
(
type: esriFieldTypeString, alias: Tag, length: 20
)
-
GroupName
(
type: esriFieldTypeString, alias: GroupName, length: 50
)
-
ProductName
(
type: esriFieldTypeString, alias: ProductName, length: 50
)
-
CenterX
(
type: esriFieldTypeDouble, alias: CenterX
)
-
CenterY
(
type: esriFieldTypeDouble, alias: CenterY
)
-
ZOrder
(
type: esriFieldTypeInteger, alias: ZOrder
)
-
Shape_Length
(
type: esriFieldTypeDouble, alias: Shape_Length
)
-
Shape_Area
(
type: esriFieldTypeDouble, alias: Shape_Area
)
Default Mosaic Method: ByAttribute
Allowed Mosaic Methods: ByAttribute,NorthWest,Center,LockRaster,Nadir,Viewpoint,Seamline,None
SortField: ZOrder
SortValue: 0
Mosaic Operator: First
Default Compression Quality: 75
Default Resampling Method: Bilinear
Max Record Count: 1000
Max Image Height: 4100
Max Image Width: 15000
Max Download Image Count: 20
Max Mosaic Image Count: 20
Allow Raster Function: true
Allow Copy: true
Allow Analysis: true
Allow Compute TiePoints: false
Supports Statistics: true
Supports Advanced Queries: true
Use StandardizedQueries: true
Raster Type Infos:
Name: Raster Dataset
Description: Supports all ArcGIS Raster Datasets
Help:
Has Raster Attribute Table: false
Edit Fields Info: null
Ownership Based AccessControl For Rasters: null
Child Resources:
Info
Histograms
Statistics
Key Properties
Legend
Raster Function Infos
Supported Operations:
Export Image
Query
Identify
Measure
Compute Histograms
Compute Statistics Histograms
Get Samples
Compute Class Statistics
Query Boundary
Compute Pixel Location
Compute Angles
Validate
Project