This mosaic contains selected scanned historic aerial photographs for the shoreline of Connecticut. The scans were created by the CT State library and downloaded through the University of Connecticut Library MAGIC server. Prior to rectifying the images were cropped to minimize distortion from upland topography and the lack of tie features in the open water. Statewide 2012 ortho imagery was used as the base for matching the image coordinates. Because of the focus on coastal features only tie points at or near sea level were selected for rectiying the images (off shore rocks, prominent coastal landmarks, and other fixed features found in both the 2012 and rectified photographs). The georeferencing tools used are from ArcGIS 10., 2, and 3 depending on the version availalble at the time. The Projective transformation was used to minimize warping in the images yet still account for tilt of the aircraft. These are not true ortho photographs, no elevation values were taken into account and displacement in upland features were not aligned.<\/SPAN><\/P><\/DIV><\/DIV><\/DIV>",
"name": "Aerials/CTCoast1934",
"description": "This mosaic contains selected scanned historic aerial photographs for the shoreline of Connecticut. The scans were created by the CT State library and downloaded through the University of Connecticut Library MAGIC server. Prior to rectifying the images were cropped to minimize distortion from upland topography and the lack of tie features in the open water. Statewide 2012 ortho imagery was used as the base for matching the image coordinates. Because of the focus on coastal features only tie points at or near sea level were selected for rectiying the images (off shore rocks, prominent coastal landmarks, and other fixed features found in both the 2012 and rectified photographs). The georeferencing tools used are from ArcGIS 10., 2, and 3 depending on the version availalble at the time. The Projective transformation was used to minimize warping in the images yet still account for tilt of the aircraft. These are not true ortho photographs, no elevation values were taken into account and displacement in upland features were not aligned.<\/SPAN><\/P><\/DIV><\/DIV><\/DIV>",
"extent": {
"xmin": 742456.4174510314,
"ymin": 552681.9319661143,
"xmax": 1254793.1422350146,
"ymax": 691773.7046725788,
"spatialReference": {
"wkid": 102656,
"latestWkid": 2234
}
},
"initialExtent": {
"xmin": 742456.4174510314,
"ymin": 552681.9319661143,
"xmax": 1254793.1422350146,
"ymax": 691773.7046725788,
"spatialReference": {
"wkid": 102656,
"latestWkid": 2234
}
},
"fullExtent": {
"xmin": 742456.4174510314,
"ymin": 552681.9319661143,
"xmax": 1254793.1422350146,
"ymax": 691773.7046725788,
"spatialReference": {
"wkid": 102656,
"latestWkid": 2234
}
},
"sortableFields": "",
"bandCount": 3,
"pixelType": "U8",
"minValues": [
0,
0,
0
],
"maxValues": [
239,
239,
239
],
"meanValues": [
97.74883923389437,
97.74883923389437,
97.74883923389437
],
"stdvValues": [
46.03130960274128,
46.03130960274128,
46.03130960274128
],
"serviceProperties": "ByAttribute<\/MosaicMethod>First<\/MosaicOperator>true<\/SortAscending><\/LockImageID>ZOrder<\/TileOrderField>0<\/TileOrderBase>600.000000<\/AvgImageSpacingX>300.000000<\/AvgImageSpacingY>0.0<\/ViewPointX>0.0<\/ViewPointY>0.0<\/ViewPointDefShiftX>0.0<\/ViewPointDefShiftY>None<\/CompressionMethod>75<\/CompressionQuality>0.010000<\/CompressionTolerance>Bilinear<\/SamplingMethod><\/ImageServiceProperties><\/ImageServer>",
"allowedFields": "Name,MinPS,MaxPS,LowPS,HighPS,Tag,GroupName,ProductName,CenterX,CenterY,ZOrder,Shape_Length,Shape_Area",
"hasMultidimensions": false,
"pixelSizeX": 0.9144036808829319,
"pixelSizeY": 0.9144036808829318,
"meanPixelSize": 0.2787107993547164,
"datasetFormat": "AMD",
"uncompressedSize": 255683235456,
"blockWidth": 2048,
"blockHeight": 256,
"compressionType": "None",
"bandNames": [
"Band_1",
"Band_2",
"Band_3"
],
"allowCopy": true,
"allowAnalysis": true,
"itemAccess": false,
"inspectionCapabilities": "",
"minPixelSize": 0,
"maxPixelSize": 0,
"copyrightText": "CT State Library for the scanned aerial photographs. The University of Connecticut Library MAGIC program for the online access to scanned historic images. The Univerisity of Connecitcut Cooperative Extension System for rectifying the images. Connecticut Sea Grant for the completion and publishing of the dataset.",
"serviceDataType": "esriImageServiceDataTypeRGB",
"serviceSourceType": "esriImageServiceSourceTypeMosaicDataset",
"objectIdField": "OBJECTID",
"fields": [
{
"name": "OBJECTID",
"type": "esriFieldTypeOID",
"alias": "OBJECTID",
"domain": null
},
{
"name": "Shape",
"type": "esriFieldTypeGeometry",
"alias": "Shape",
"domain": null
},
{
"name": "Name",
"type": "esriFieldTypeString",
"alias": "Name",
"domain": null,
"length": 50
},
{
"name": "MinPS",
"type": "esriFieldTypeDouble",
"alias": "MinPS",
"domain": null
},
{
"name": "MaxPS",
"type": "esriFieldTypeDouble",
"alias": "MaxPS",
"domain": null
},
{
"name": "LowPS",
"type": "esriFieldTypeDouble",
"alias": "LowPS",
"domain": null
},
{
"name": "HighPS",
"type": "esriFieldTypeDouble",
"alias": "HighPS",
"domain": null
},
{
"name": "Category",
"type": "esriFieldTypeInteger",
"alias": "Category",
"domain": {
"type": "codedValue",
"name": "MosaicCatalogItemCategoryDomain",
"description": "Catalog item categories.",
"codedValues": [
{
"name": "Unknown",
"code": 0
},
{
"name": "Primary",
"code": 1
},
{
"name": "Overview",
"code": 2
},
{
"name": "Unprocessed Overview",
"code": 3
},
{
"name": "Partial Overview",
"code": 4
},
{
"name": "Uploaded",
"code": 253
},
{
"name": "Incomplete",
"code": 254
},
{
"name": "Custom",
"code": 255
}
],
"mergePolicy": "esriMPTDefaultValue",
"splitPolicy": "esriSPTDefaultValue"
}
},
{
"name": "Tag",
"type": "esriFieldTypeString",
"alias": "Tag",
"domain": null,
"length": 20
},
{
"name": "GroupName",
"type": "esriFieldTypeString",
"alias": "GroupName",
"domain": null,
"length": 50
},
{
"name": "ProductName",
"type": "esriFieldTypeString",
"alias": "ProductName",
"domain": null,
"length": 50
},
{
"name": "CenterX",
"type": "esriFieldTypeDouble",
"alias": "CenterX",
"domain": null
},
{
"name": "CenterY",
"type": "esriFieldTypeDouble",
"alias": "CenterY",
"domain": null
},
{
"name": "ZOrder",
"type": "esriFieldTypeInteger",
"alias": "ZOrder",
"domain": null
},
{
"name": "Shape_Length",
"type": "esriFieldTypeDouble",
"alias": "Shape_Length",
"domain": null
},
{
"name": "Shape_Area",
"type": "esriFieldTypeDouble",
"alias": "Shape_Area",
"domain": null
}
],
"capabilities": "Image,Metadata,Catalog,Mensuration",
"defaultMosaicMethod": "ByAttribute",
"allowedMosaicMethods": "ByAttribute,NorthWest,Center,LockRaster,Nadir,Viewpoint,Seamline,None",
"sortField": "ZOrder",
"sortValue": "0",
"sortAscending": true,
"mosaicOperator": "First",
"maxDownloadSizeLimit": 2048,
"defaultCompressionQuality": 75,
"defaultResamplingMethod": "Bilinear",
"maxImageHeight": 4100,
"maxImageWidth": 15000,
"maxRecordCount": 1000,
"maxDownloadImageCount": 20,
"maxMosaicImageCount": 20,
"allowRasterFunction": true,
"rasterFunctionInfos": [
{
"name": "None",
"description": "",
"help": ""
}
],
"rasterTypeInfos": [
{
"name": "Raster Dataset",
"description": "Supports all ArcGIS Raster Datasets",
"help": ""
}
],
"mensurationCapabilities": "Basic",
"hasHistograms": true,
"hasColormap": false,
"hasRasterAttributeTable": false,
"minScale": 0,
"maxScale": 0,
"exportTilesAllowed": false,
"supportsStatistics": true,
"supportsAdvancedQueries": true,
"editFieldsInfo": null,
"ownershipBasedAccessControlForRasters": null,
"allowComputeTiePoints": false,
"useStandardizedQueries": true,
"advancedQueryCapabilities": {
"useStandardizedQueries": true,
"supportsStatistics": true,
"supportsOrderBy": true,
"supportsDistinct": true,
"supportsPagination": true
},
"spatialReference": {
"wkid": 102656,
"latestWkid": 2234
}
}